BEGIN:VCALENDAR
VERSION:2.0
PRODID:-//Goethe-Gymnasium Düsseldorf - ECPv4.9.14//NONSGML v1.0//EN
CALSCALE:GREGORIAN
METHOD:PUBLISH
X-WR-CALNAME:Goethe-Gymnasium Düsseldorf
X-ORIGINAL-URL:https://www.goethe-gymnasium.de
X-WR-CALDESC:Veranstaltungen im Goethe-Gymnasium Düsseldorf
BEGIN:VTIMEZONE
TZID:Europe/Berlin
BEGIN:DAYLIGHT
TZOFFSETFROM:+0100
TZOFFSETTO:+0200
TZNAME:CEST
DTSTART:20250330T010000
END:DAYLIGHT
BEGIN:STANDARD
TZOFFSETFROM:+0200
TZOFFSETTO:+0100
TZNAME:CET
DTSTART:20251026T010000
END:STANDARD
END:VTIMEZONE
BEGIN:VEVENT
DTSTART;TZID=Europe/Berlin:20250930T160000
DTEND;TZID=Europe/Berlin:20250930T200000
DTSTAMP:20260422T201547
CREATED:20250822T153720Z
LAST-MODIFIED:20250822T153720Z
UID:16370-1759248000-1759262400@www.goethe-gymnasium.de
SUMMARY:Fachkonferenz Block I
DESCRIPTION:Die gewählten Fachkonferenzvertreter kommen zusammen. Eine Einladung geht Ihnen per Mail zu. \n16-18 Uhr: E\, D\, M\n18-20 Uhr: Mu\, Sp\, Mu\, Pl\, eR/kR\, Bi \n
URL:https://www.goethe-gymnasium.de/veranstaltung/fachkonferenz-block-i-2/
LOCATION:Goethe-Gymnasium\, Lindemannstraße 57\, Düsseldorf\, NRW\, 40237
CATEGORIES:Engagement,Information
END:VEVENT
END:VCALENDAR