BEGIN:VCALENDAR
VERSION:2.0
PRODID:-//Goethe-Gymnasium Düsseldorf - ECPv4.9.14//NONSGML v1.0//EN
CALSCALE:GREGORIAN
METHOD:PUBLISH
X-WR-CALNAME:Goethe-Gymnasium Düsseldorf
X-ORIGINAL-URL:https://www.goethe-gymnasium.de
X-WR-CALDESC:Veranstaltungen im Goethe-Gymnasium Düsseldorf
BEGIN:VTIMEZONE
TZID:Europe/Berlin
BEGIN:DAYLIGHT
TZOFFSETFROM:+0100
TZOFFSETTO:+0200
TZNAME:CEST
DTSTART:20250330T010000
END:DAYLIGHT
BEGIN:STANDARD
TZOFFSETFROM:+0200
TZOFFSETTO:+0100
TZNAME:CET
DTSTART:20251026T010000
END:STANDARD
END:VTIMEZONE
BEGIN:VEVENT
DTSTART;TZID=Europe/Berlin:20250911T190000
DTEND;TZID=Europe/Berlin:20250911T210000
DTSTAMP:20260422T201605
CREATED:20250822T155237Z
LAST-MODIFIED:20250822T155237Z
UID:16367-1757617200-1757624400@www.goethe-gymnasium.de
SUMMARY:Elternabend Klassen 9/10
DESCRIPTION:Der Elternabend informiert über alles Wichtige an der Schule. \nUm 19 Uhr informiert die Mittelstufenkoordination in der Aula. Anschließend (ca ab 19.30 Uhr) wird der Elternabend im Klassenverband in einzelnen Räumen fortgesetzt. \n
URL:https://www.goethe-gymnasium.de/veranstaltung/elternabend-klassen-9-10-2025/
LOCATION:Aula (Goethe Gymnasium)\, Lindemannstraße 57\, Düsseldorf\, 40237
CATEGORIES:Information
END:VEVENT
END:VCALENDAR