BEGIN:VCALENDAR
VERSION:2.0
PRODID:-//Goethe-Gymnasium Düsseldorf - ECPv4.9.14//NONSGML v1.0//EN
CALSCALE:GREGORIAN
METHOD:PUBLISH
X-WR-CALNAME:Goethe-Gymnasium Düsseldorf
X-ORIGINAL-URL:https://www.goethe-gymnasium.de
X-WR-CALDESC:Veranstaltungen im Goethe-Gymnasium Düsseldorf
BEGIN:VTIMEZONE
TZID:Europe/Berlin
BEGIN:DAYLIGHT
TZOFFSETFROM:+0100
TZOFFSETTO:+0200
TZNAME:CEST
DTSTART:20250330T010000
END:DAYLIGHT
BEGIN:STANDARD
TZOFFSETFROM:+0200
TZOFFSETTO:+0100
TZNAME:CET
DTSTART:20251026T010000
END:STANDARD
END:VTIMEZONE
BEGIN:VEVENT
DTSTART;VALUE=DATE:20250827
DTEND;VALUE=DATE:20250828
DTSTAMP:20260424T092644
CREATED:20250822T160028Z
LAST-MODIFIED:20250822T160028Z
UID:16362-1756252800-1756339199@www.goethe-gymnasium.de
SUMMARY:Beginn des Schuljahres 2025/26
DESCRIPTION:Am Mittwoch\, 27.08.\, ist der 1. Schultag für unsere Schülerinnen und Schüler der Stufen 6 bis Q2. \nIn den ersten beiden Unterrichtsstunden finden in der SI Klassenleitungsstunden\, in der Q1 die Stufenleitungsstunden statt. Die EF hat drei Einführungstage in- und außerhalb der Schule. \nAb der 3. UStd. startet der Unterricht nach Stundenplan\, ohne Langtag. Die Langtage beginnen am Montag\, den 8.9.. \nDie neuen 5er Klassen begehen am Donnerstag\, 28.08.\, um 10 Uhr in der Aula feierlich ihren 1. Schultag in der neuen weiterführenden Schule. \nIch wünsche Ihnen einen guten und freudvollen Start in das neue Schuljahr mit Ihren Schülerinnen und Schülern. \n
URL:https://www.goethe-gymnasium.de/veranstaltung/beginn-des-schuljahres-2025-26/
LOCATION:Goethe-Gymnasium\, Lindemannstraße 57\, Düsseldorf\, NRW\, 40237
CATEGORIES:Information
END:VEVENT
END:VCALENDAR