BEGIN:VCALENDAR
VERSION:2.0
PRODID:-//Goethe-Gymnasium Düsseldorf - ECPv4.9.14//NONSGML v1.0//EN
CALSCALE:GREGORIAN
METHOD:PUBLISH
X-WR-CALNAME:Goethe-Gymnasium Düsseldorf
X-ORIGINAL-URL:https://www.goethe-gymnasium.de
X-WR-CALDESC:Veranstaltungen im Goethe-Gymnasium Düsseldorf
BEGIN:VTIMEZONE
TZID:Europe/Berlin
BEGIN:DAYLIGHT
TZOFFSETFROM:+0100
TZOFFSETTO:+0200
TZNAME:CEST
DTSTART:20250330T010000
END:DAYLIGHT
BEGIN:STANDARD
TZOFFSETFROM:+0200
TZOFFSETTO:+0100
TZNAME:CET
DTSTART:20251026T010000
END:STANDARD
END:VTIMEZONE
BEGIN:VEVENT
DTSTART;TZID=Europe/Berlin:20250701T190000
DTEND;TZID=Europe/Berlin:20250701T200000
DTSTAMP:20260422T152731
CREATED:20220808T160124Z
LAST-MODIFIED:20250529T111106Z
UID:13671-1751396400-1751400000@www.goethe-gymnasium.de
SUMMARY:Musicalaufführung
DESCRIPTION:Unsere vier Ensembles – Unterstufenchor\, Goethe-Chor\, Band und Orchester – laden Sie/ Euch herzlich zu den beiden Aufführungen unseres Musicals am 1.\, 2. und 4. Juli um 19 Uhr in unsere Aula ein. \nDie Karten für die beiden Aufführungen werden Ende Juni vor dem Sekretariat in den großen Pausen für 3 Euro (ermäßigt) und 5 Euro verkauft. Auch an der Abendkasse können Sie ab 30 min vor Stückbeginn noch Karten\, soweit vorhanden\, kaufen. \n  \n
URL:https://www.goethe-gymnasium.de/veranstaltung/musicalauffuehrung-1-2025/
LOCATION:Goethe-Gymnasium\, Lindemannstraße 57\, Düsseldorf\, NRW\, 40237
CATEGORIES:Musik,Theater
END:VEVENT
END:VCALENDAR