BEGIN:VCALENDAR
VERSION:2.0
PRODID:-//Goethe-Gymnasium Düsseldorf - ECPv4.9.14//NONSGML v1.0//EN
CALSCALE:GREGORIAN
METHOD:PUBLISH
X-WR-CALNAME:Goethe-Gymnasium Düsseldorf
X-ORIGINAL-URL:https://www.goethe-gymnasium.de
X-WR-CALDESC:Veranstaltungen im Goethe-Gymnasium Düsseldorf
BEGIN:VTIMEZONE
TZID:Europe/Berlin
BEGIN:DAYLIGHT
TZOFFSETFROM:+0100
TZOFFSETTO:+0200
TZNAME:CEST
DTSTART:20250330T010000
END:DAYLIGHT
BEGIN:STANDARD
TZOFFSETFROM:+0200
TZOFFSETTO:+0100
TZNAME:CET
DTSTART:20251026T010000
END:STANDARD
END:VTIMEZONE
BEGIN:VEVENT
DTSTART;TZID=Europe/Berlin:20250625T190000
DTEND;TZID=Europe/Berlin:20250625T220000
DTSTAMP:20260424T094014
CREATED:20250529T110713Z
LAST-MODIFIED:20250529T110713Z
UID:16244-1750878000-1750888800@www.goethe-gymnasium.de
SUMMARY:Jahreshauptversammlung des Fördervereins
DESCRIPTION:Auf der jährlichen Jahreshauptversammlung des Fördervereines erstattet der Vorstand Bericht über die im letzten Jahr geförderten Projekte und zukünftige Vorhaben. In diesem Jahr wird zusätzlich der Vorstand für eine Amtszeit von drei Jahren neu gewählt. Es sind nur Mitglieder stimmberechtigt\, aber auch Nichtmitglieder\, die sich für die Arbeit des Fördervereins interessieren\, sind herzlich eingeladen. \nDer Raum wird kurzfristig auf Anfrage bekannt gegeben. \n
URL:https://www.goethe-gymnasium.de/veranstaltung/jahreshauptversammlung-des-foerdervereins-2/
LOCATION:Goethe-Gymnasium\, Lindemannstraße 57\, Düsseldorf\, NRW\, 40237
CATEGORIES:Engagement
ATTACH;FMTTYPE=image/png:https://www.goethe-gymnasium.de/wp-content/uploads/2017/09/foerderverein_logo.png
ORGANIZER;CN="F%C3%B6rderverein%20des%20Goethe-Gymnasiums":MAILTO:foerderverein@goethe-gymnasium.de
END:VEVENT
END:VCALENDAR