BEGIN:VCALENDAR
VERSION:2.0
PRODID:-//Goethe-Gymnasium Düsseldorf - ECPv4.9.14//NONSGML v1.0//EN
CALSCALE:GREGORIAN
METHOD:PUBLISH
X-WR-CALNAME:Goethe-Gymnasium Düsseldorf
X-ORIGINAL-URL:https://www.goethe-gymnasium.de
X-WR-CALDESC:Veranstaltungen im Goethe-Gymnasium Düsseldorf
BEGIN:VTIMEZONE
TZID:Europe/Berlin
BEGIN:DAYLIGHT
TZOFFSETFROM:+0100
TZOFFSETTO:+0200
TZNAME:CEST
DTSTART:20250330T010000
END:DAYLIGHT
BEGIN:STANDARD
TZOFFSETFROM:+0200
TZOFFSETTO:+0100
TZNAME:CET
DTSTART:20251026T010000
END:STANDARD
END:VTIMEZONE
BEGIN:VEVENT
DTSTART;TZID=Europe/Berlin:20250624T080000
DTEND;TZID=Europe/Berlin:20250624T133000
DTSTAMP:20260424T093929
CREATED:20250507T071035Z
LAST-MODIFIED:20250507T071035Z
UID:16237-1750752000-1750771800@www.goethe-gymnasium.de
SUMMARY:Sportfest
DESCRIPTION:Infos folgen \n
URL:https://www.goethe-gymnasium.de/veranstaltung/sportfest/
LOCATION:Rather Waldstation\, Rather Waldstation\, Düsseldorf\, Deutschland
CATEGORIES:Sport
END:VEVENT
END:VCALENDAR