BEGIN:VCALENDAR
VERSION:2.0
PRODID:-//Goethe-Gymnasium Düsseldorf - ECPv4.9.14//NONSGML v1.0//EN
CALSCALE:GREGORIAN
METHOD:PUBLISH
X-WR-CALNAME:Goethe-Gymnasium Düsseldorf
X-ORIGINAL-URL:https://www.goethe-gymnasium.de
X-WR-CALDESC:Veranstaltungen im Goethe-Gymnasium Düsseldorf
BEGIN:VTIMEZONE
TZID:Europe/Berlin
BEGIN:DAYLIGHT
TZOFFSETFROM:+0100
TZOFFSETTO:+0200
TZNAME:CEST
DTSTART:20250330T010000
END:DAYLIGHT
BEGIN:STANDARD
TZOFFSETFROM:+0200
TZOFFSETTO:+0100
TZNAME:CET
DTSTART:20251026T010000
END:STANDARD
END:VTIMEZONE
BEGIN:VEVENT
DTSTART;VALUE=DATE:20250611
DTEND;VALUE=DATE:20250612
DTSTAMP:20260424T094052
CREATED:20241022T211931Z
LAST-MODIFIED:20241022T211931Z
UID:15527-1749600000-1749686399@www.goethe-gymnasium.de
SUMMARY:Mündliche Abiturprüfungen - Studientag für Schüler
DESCRIPTION:Wegen der mündlichen Abiturprüfungen und der damit verbundenen Abwesenheit fast aller Lehrerinnen und Lehrer ist an diesem Tag ist für Schülerinnen und Schüler unterrichtsfrei\, aber Studientag. Die Schülerinnen und Schüler werden Aufgaben erhalten\, die zuhause zu bearbeiten sind. \nBitte beachten Sie\, dass Studientage keine Ferientage sind\, auch an diesen Tagen muss jede Beurlaubung  über die Schulleitung beantragt werden. Klassenarbeiten und Klausuren (insbes. Nachschreibtermine) können stattfinden. \n
URL:https://www.goethe-gymnasium.de/veranstaltung/muendliche-abiturpruefungen-studientag-fuer-schueler-2025/
LOCATION:Goethe-Gymnasium\, Lindemannstraße 57\, Düsseldorf\, NRW\, 40237
CATEGORIES:Information
END:VEVENT
END:VCALENDAR