BEGIN:VCALENDAR
VERSION:2.0
PRODID:-//Goethe-Gymnasium Düsseldorf - ECPv4.9.14//NONSGML v1.0//EN
CALSCALE:GREGORIAN
METHOD:PUBLISH
X-WR-CALNAME:Goethe-Gymnasium Düsseldorf
X-ORIGINAL-URL:https://www.goethe-gymnasium.de
X-WR-CALDESC:Veranstaltungen im Goethe-Gymnasium Düsseldorf
BEGIN:VTIMEZONE
TZID:Europe/Berlin
BEGIN:DAYLIGHT
TZOFFSETFROM:+0100
TZOFFSETTO:+0200
TZNAME:CEST
DTSTART:20250330T010000
END:DAYLIGHT
BEGIN:STANDARD
TZOFFSETFROM:+0200
TZOFFSETTO:+0100
TZNAME:CET
DTSTART:20251026T010000
END:STANDARD
END:VTIMEZONE
BEGIN:VEVENT
DTSTART;TZID=Europe/Berlin:20250522T153000
DTEND;TZID=Europe/Berlin:20250522T173000
DTSTAMP:20260422T134450
CREATED:20241022T211052Z
LAST-MODIFIED:20241022T211052Z
UID:15493-1747927800-1747935000@www.goethe-gymnasium.de
SUMMARY:Kennenlernnachmittag der zukünftigen 5. Klassen
DESCRIPTION:Liebe Eltern der künftigen 5-Klässler am Goethe-Gymnasium\,\nLiebe Schüler und Schülerinnen\, \nWir freuen uns sehr\, Sie und Ihr Kind bei uns am Goethegymnasium begrüßen zu dürfen\, denn am Donnerstag\, dem 22.5.25 findet der Kennenlernnachmittag in der Aula der Schule statt. \nDie künftigen Klassen werden sich erstmals um ihre künftigen Klassenlehrerteams scharen und mit ihnen einen Unterrichtsraum für die erste Begegnung aufsuchen. \nIn dieser Zeit werden Ihnen der Schulleiter Ralf Schreiber und  seine Stellvertreterin Marion Bungartz Fragen beantworten und den guten Geist des Goethe-Gymnasiums nahe bringen. \nWir freuen uns auf Sie und Euch\, \nMartin Döhr\,\nErprobungsstufenkoordinator \n
URL:https://www.goethe-gymnasium.de/veranstaltung/kennenlernnachmittag-der-zukuenftigen-5-klassen-2025/
LOCATION:Aula (Goethe Gymnasium)\, Lindemannstraße 57\, Düsseldorf\, 40237
CATEGORIES:Feier
END:VEVENT
END:VCALENDAR