BEGIN:VCALENDAR
VERSION:2.0
PRODID:-//Goethe-Gymnasium Düsseldorf - ECPv4.9.14//NONSGML v1.0//EN
CALSCALE:GREGORIAN
METHOD:PUBLISH
X-WR-CALNAME:Goethe-Gymnasium Düsseldorf
X-ORIGINAL-URL:https://www.goethe-gymnasium.de
X-WR-CALDESC:Veranstaltungen im Goethe-Gymnasium Düsseldorf
BEGIN:VTIMEZONE
TZID:Europe/Berlin
BEGIN:DAYLIGHT
TZOFFSETFROM:+0100
TZOFFSETTO:+0200
TZNAME:CEST
DTSTART:20250330T010000
END:DAYLIGHT
BEGIN:STANDARD
TZOFFSETFROM:+0200
TZOFFSETTO:+0100
TZNAME:CET
DTSTART:20251026T010000
END:STANDARD
END:VTIMEZONE
BEGIN:VEVENT
DTSTART;VALUE=DATE:20250402
DTEND;VALUE=DATE:20250410
DTSTAMP:20260424T094839
CREATED:20241022T210341Z
LAST-MODIFIED:20241022T210357Z
UID:15488-1743552000-1744243199@www.goethe-gymnasium.de
SUMMARY:MASKERADE 2025
DESCRIPTION:Schülertheater-Festival im Goethe.\nDas GOETHE ist zum 18. Mal Gastgeber des bundesweit ältesten und größten Schülertheater-Festivals\, das aus einer Schule heraus organisiert und durchgeführt wird. \n  \nKulturpartner und Sponsoren \n           \n
URL:https://www.goethe-gymnasium.de/veranstaltung/maskerade-2025/
LOCATION:Goethe-Gymnasium\, Lindemannstraße 57\, Düsseldorf\, NRW\, 40237
CATEGORIES:Theater
END:VEVENT
BEGIN:VEVENT
DTSTART;VALUE=DATE:20250403
DTEND;VALUE=DATE:20250404
DTSTAMP:20260424T094839
CREATED:20241022T210452Z
LAST-MODIFIED:20241022T210452Z
UID:15489-1743638400-1743724799@www.goethe-gymnasium.de
SUMMARY:Girls' and Boys' Day
DESCRIPTION:Mädchen und Jungen für neue Berufswege zu interessieren\, das ist das Ziel des jährlich stattfindenden Girls` und Boys` Day. Jedes Frühjahr wird Mädchen und Jungen die Möglichkeit geboten Berufsfelder kennenzulernen\, die außerhalb einer traditionellen Orientierung liegen. \nSo können sich Mädchen in naturwissenschaftlich-technischen Berufen umsehen und Jungen können einen Einblick in soziale\, erzieherische oder pflegerische Bereiche erhalten. \nZum Prozedere erhalten Ihre Kinder noch ausführliche Informationen. Weiterführende Informationen zum  Girls‚ ans Boys‚ Day können Sie bekommen\, wenn Sie auf den jeweiligen Textlink klicken. \n
URL:https://www.goethe-gymnasium.de/veranstaltung/girls-and-boys-day-2025/
LOCATION:Goethe-Gymnasium\, Lindemannstraße 57\, Düsseldorf\, NRW\, 40237
CATEGORIES:Berufsorientierung
END:VEVENT
END:VCALENDAR