BEGIN:VCALENDAR
VERSION:2.0
PRODID:-//Goethe-Gymnasium Düsseldorf - ECPv4.9.14//NONSGML v1.0//EN
CALSCALE:GREGORIAN
METHOD:PUBLISH
X-WR-CALNAME:Goethe-Gymnasium Düsseldorf
X-ORIGINAL-URL:https://www.goethe-gymnasium.de
X-WR-CALDESC:Veranstaltungen im Goethe-Gymnasium Düsseldorf
BEGIN:VTIMEZONE
TZID:Europe/Berlin
BEGIN:DAYLIGHT
TZOFFSETFROM:+0100
TZOFFSETTO:+0200
TZNAME:CEST
DTSTART:20250330T010000
END:DAYLIGHT
BEGIN:STANDARD
TZOFFSETFROM:+0200
TZOFFSETTO:+0100
TZNAME:CET
DTSTART:20251026T010000
END:STANDARD
END:VTIMEZONE
BEGIN:VEVENT
DTSTART;TZID=Europe/Berlin:20250319T160000
DTEND;TZID=Europe/Berlin:20250319T173000
DTSTAMP:20260424T085253
CREATED:20241022T210205Z
LAST-MODIFIED:20241022T210205Z
UID:15487-1742400000-1742405400@www.goethe-gymnasium.de
SUMMARY:Infoabend zur Wahl der 2. Fremdsprache
DESCRIPTION:Französisch oder Latein? Welche Sprache soll mein Kind im nächsten Jahr lernen? \nAn diesem Nachmittag geben wir Ihnen Entscheidungshilfen. Jeweils ein Lehrer/eine Lehrerin für die Fächer Französisch und Latein stellen ihr Fach vor\, berichten aus ihrem Unterricht und gehen gern auf Ihre Fragen ein. \nFür Eltern von Kindern der Jahrgangsstufe 6. \nDie Veranstaltung wird als Videokonferenz durchgeführt. \n
URL:https://www.goethe-gymnasium.de/veranstaltung/infoabend-zur-wahl-der-2-fremdsprache/
LOCATION:Digital
CATEGORIES:Information
END:VEVENT
BEGIN:VEVENT
DTSTART;TZID=Europe/Berlin:20250319T190000
DTEND;TZID=Europe/Berlin:20250319T220000
DTSTAMP:20260424T085253
CREATED:20250131T213311Z
LAST-MODIFIED:20250131T213311Z
UID:16166-1742410800-1742421600@www.goethe-gymnasium.de
SUMMARY:Vorstandssitzung des Fördervereins
DESCRIPTION:Auf den vierteljährlich stattfindenden Vorstandssitzungen des Fördervereins werden die von Seiten der Schule eingegangenen Anträge besprochen. Eltern\, die sich für die Arbeit des Fördervereins interessieren\, sind gerne eingeladen\, als Gast an den Vorstandssitzungen teilzunehmen. \n
URL:https://www.goethe-gymnasium.de/veranstaltung/vorstandssitzung-des-foerdervereins-3/
LOCATION:Bekanntgabe auf Nachfrage
CATEGORIES:Engagement
ATTACH;FMTTYPE=image/png:https://www.goethe-gymnasium.de/wp-content/uploads/2017/09/foerderverein_logo.png
ORGANIZER;CN="F%C3%B6rderverein%20des%20Goethe-Gymnasiums":MAILTO:foerderverein@goethe-gymnasium.de
END:VEVENT
END:VCALENDAR