BEGIN:VCALENDAR
VERSION:2.0
PRODID:-//Goethe-Gymnasium Düsseldorf - ECPv4.9.14//NONSGML v1.0//EN
CALSCALE:GREGORIAN
METHOD:PUBLISH
X-WR-CALNAME:Goethe-Gymnasium Düsseldorf
X-ORIGINAL-URL:https://www.goethe-gymnasium.de
X-WR-CALDESC:Veranstaltungen im Goethe-Gymnasium Düsseldorf
BEGIN:VTIMEZONE
TZID:Europe/Berlin
BEGIN:DAYLIGHT
TZOFFSETFROM:+0100
TZOFFSETTO:+0200
TZNAME:CEST
DTSTART:20250330T010000
END:DAYLIGHT
BEGIN:STANDARD
TZOFFSETFROM:+0200
TZOFFSETTO:+0100
TZNAME:CET
DTSTART:20251026T010000
END:STANDARD
END:VTIMEZONE
BEGIN:VEVENT
DTSTART;TZID=Europe/Berlin:20250220T190000
DTEND;TZID=Europe/Berlin:20250220T210000
DTSTAMP:20260420T084147
CREATED:20241022T204356Z
LAST-MODIFIED:20241022T204356Z
UID:15480-1740078000-1740085200@www.goethe-gymnasium.de
SUMMARY:Informationsveranstaltung zur Oberstufe
DESCRIPTION:Die Veranstaltung richtet sich an Schülerinnen und Schüler der 10. Klassen sowie deren Eltern \n
URL:https://www.goethe-gymnasium.de/veranstaltung/informationsveranstaltung-zur-oberstufe-2025/
LOCATION:Aula (Goethe Gymnasium)\, Lindemannstraße 57\, Düsseldorf\, 40237
END:VEVENT
END:VCALENDAR