BEGIN:VCALENDAR
VERSION:2.0
PRODID:-//Goethe-Gymnasium Düsseldorf - ECPv4.9.14//NONSGML v1.0//EN
CALSCALE:GREGORIAN
METHOD:PUBLISH
X-WR-CALNAME:Goethe-Gymnasium Düsseldorf
X-ORIGINAL-URL:https://www.goethe-gymnasium.de
X-WR-CALDESC:Veranstaltungen im Goethe-Gymnasium Düsseldorf
BEGIN:VTIMEZONE
TZID:Europe/Berlin
BEGIN:DAYLIGHT
TZOFFSETFROM:+0100
TZOFFSETTO:+0200
TZNAME:CEST
DTSTART:20240331T010000
END:DAYLIGHT
BEGIN:STANDARD
TZOFFSETFROM:+0200
TZOFFSETTO:+0100
TZNAME:CET
DTSTART:20241027T010000
END:STANDARD
END:VTIMEZONE
BEGIN:VEVENT
DTSTART;TZID=Europe/Berlin:20240430T190000
DTEND;TZID=Europe/Berlin:20240430T210000
DTSTAMP:20260421T101840
CREATED:20230726T144224Z
LAST-MODIFIED:20230726T144224Z
UID:14644-1714503600-1714510800@www.goethe-gymnasium.de
SUMMARY:2. Schulpflegschaftssitzung
DESCRIPTION:Die gewählten Elternvertreter kommen an diesem Abend zusammen. \nEine Einladung erhalten die Elternvertreter über Ihre Kinder durch den Pflegschaftsvorsitzenden. \n
URL:https://www.goethe-gymnasium.de/veranstaltung/2-schulpflegschaftssitzung-24/
LOCATION:R. 204 (Goethe-Gymnasium)\, Lindemannstraße 57\, Düsseldorf\, 40237
CATEGORIES:Engagement,Information
END:VEVENT
END:VCALENDAR