BEGIN:VCALENDAR
VERSION:2.0
PRODID:-//Goethe-Gymnasium Düsseldorf - ECPv4.9.14//NONSGML v1.0//EN
CALSCALE:GREGORIAN
METHOD:PUBLISH
X-WR-CALNAME:Goethe-Gymnasium Düsseldorf
X-ORIGINAL-URL:https://www.goethe-gymnasium.de
X-WR-CALDESC:Veranstaltungen im Goethe-Gymnasium Düsseldorf
BEGIN:VTIMEZONE
TZID:Europe/Berlin
BEGIN:DAYLIGHT
TZOFFSETFROM:+0100
TZOFFSETTO:+0200
TZNAME:CEST
DTSTART:20230326T010000
END:DAYLIGHT
BEGIN:STANDARD
TZOFFSETFROM:+0200
TZOFFSETTO:+0100
TZNAME:CET
DTSTART:20231029T010000
END:STANDARD
END:VTIMEZONE
BEGIN:VEVENT
DTSTART;TZID=Europe/Berlin:20231125T100000
DTEND;TZID=Europe/Berlin:20231125T130000
DTSTAMP:20260421T082217
CREATED:20230726T130534Z
LAST-MODIFIED:20231107T170824Z
UID:14611-1700906400-1700917200@www.goethe-gymnasium.de
SUMMARY:Tag der offenen Tür
DESCRIPTION:Die Schulleitung und das Kollegium des Goethe-Gymnasiums laden Kinder der 4. Klassen und deren Eltern herzlich ein\, am Samstag\, den 25. November zwischen 10 und 13 Uhr uns und unsere Schule kennen zu lernen und mit Schülerinnen und Schülern\, Lehrerinnen und Lehrern ins Gespräch zu kommen. \nWir empfehlen Ihnen\, jeweils einen Platz pro Besucher*n in den hier aufgeführten Angeboten bis zum 22.11.2022 zu buchen. Denn die Teilnehmerzahl ist in diesen Angeboten begrenzt. Über die Buchungen auf dieser Seite können Sie sich Ihre Plätze in einer der folgenden Veranstaltungen sichern (zu den Buchungslinks  weiter unten): \n1. Führungen durch die Schule durch Schüler*innen der Jahrgangsstufe 10. \n2. Vorträge durch den Schulleiter\, Ralf Schreiber in der Aula. \n3. Besuch des Unterrichts in einer Klasse 5. \nDaneben dürfen Sie ab 10.00 Uhr auch ohne Anmeldung alle unserer vielfältigen Infostände\, Präsentationen und Vorführungen besuchen. \nSofern es die Zahl der angemeldeten Besucher erlaubt\, können Sie auch ohne vorherige Anmeldung an den drei oben genannten Angeboten teilnehmen. \nFalls Sie sich schon vorab mit den Räumlichkeiten vertraut machen wollen\, dann finden Sie dafür ab 23.11.23 ganz unten auf dieser Seite einen Gebäudeplan mit allen relevanten Anlaufpunkten zum Download. Sie brauchen ihn aber nicht auszudrucken. Es liegen ausreichend gedruckte Exemplare vor Ort bereit. \n  \nSie möchten sich auf den Besuch vorbereiten? Mehr über das Goethe erfahren? Dann klicken Sie auf das nebenstehende Bild\, um gebündelte Informationen zu erhalten. \nWir freuen uns schon… auf Sie… und auf euch! \n  \n\n\nBuchungslinks\n  \n1. Anmeldung zu Führungen\nWollen Sie an einer Führung teilnehmen\, können Sie sich hier anmelden und für eine Startzeit entscheiden. Die Führungen werden im 15-minütigen Takt durchgeführt. \nEine Gruppe von drei Schüler:innen der Jahrgangsstufen 10 und der Oberstufe zeigen und erklären der 20-köpfigen Besuchergruppe in einer etwa 40-minütigen Führung alle Bereiche ihrer Schule. Danach können Sie die Räume\, Vorführungen und Präsentationen\, die bei der Führung gezeigt wurden\, erneut besuchen und genauer erkunden. \nÜber den Schulhof an der Lindemannstraße gehen Sie rechts zum Eingang 1 des Altbaus. Dort werden Sie rasch zu einer Besuchergruppe weitergeleitet. Bitte kommen Sie ca 10 Minuten vor Beginn der Führung. \nFührung um 10.15 Uhr\nFührung um 10.30 Uhr\nFührung um 10.45 Uhr\nFührung um 11.00 Uhr\nFührung um 11.15 Uhr\nFührung um 11.30 Uhr\nFührung um 11.45 Uhr\nFührung um 12.00 Uhr\nFührung um 12.15 Uhr\n  \n  \n2. Anmeldung zum Vortrag von Ralf Schreiber (Schulleiter) in der Aula\nHerr Schreiber zeigt eine Präsentation und beantwortet Ihre Fragen (Zeitdauer ca. 1 Stunde). Sind Sie angemeldet\, kommen Sie bitte direkt zur Aula. Der Eingang befindet sich im Altbau\, auf dem Bürgersteig der Lindemannstraße. \nHier können Sie sich zu einem der beiden Vorträge anmelden: \n1. Vortrag | 10-11 Uhr | Aula\n2. Vortrag | 11.45-12.45 Uhr | Aula\n  \n  \n3. Anmeldung zum Unterricht der 5. Klassen\nSie haben hier die Möglichkeit sich zu einer Unterrichtsstunde der Klasse 5 anzumelden. Detaillierte Informationen zum angebotenen Fach und Raum entnehmen Sie vor Ort dem Plan zum „Tag der offenen Tür“ vor Ort. Es werden gleichzeitig sieben Unterrichtsstunden im Erdgeschoss des Altbaus und Sport in der Goethe- bzw. Rethel-Sporthalle angeboten. Nur jeweils 15 Besucher passen in einen der 7 Unterrichtsräume. Ausnahme: Sport- bzw. Tanzunterricht in den Turnhallen. Hier finden ca. 30 Personen Platz. \n1. Unterrichtsstunde | 10.20 Uhr bis 10.55 Uhr\n2. Unterrichtsstunde | 11.10 Uhr bis 11.45 Uhr\n Anmeldestationen für Unterricht: \n\nFür alle Fächer: Flur/Treppenhaus vor Raum S-0.07 (Eingang 3\, vom Hof Lindemannstr. hinten links). Lassen Sie sich am Eingang zum Schulhof von den Lotsen den Weg zeigen.\nNUR Sport: Wollen Sie eine der beiden Sportstunde in der Rethel-Halle besuchen\, kommen Sie direkt zum Eingang des Neubaus (von der Lindemannstr. aus) und lassen sich dort von den Lotsen den Eingang zur Sporthalle zeigen.\n\nKommen Sie bitte rechtzeitig\, ca. 15 Minuten vor Beginn des Unterrichts \n  \n( zu sehen ab 23. November) \n  \n  \n  \n  \n  \n  \n  \n  \n  \nRalf Schreiber (Schulleiter)\nMartin Döhr (Erprobungsstufenkorrdinator)\n  \n  \n
URL:https://www.goethe-gymnasium.de/veranstaltung/tag-der-offenen-tuer-23/
LOCATION:Goethe-Gymnasium\, Lindemannstraße 57\, Düsseldorf\, NRW\, 40237
CATEGORIES:Information
ATTACH;FMTTYPE=image/jpeg:https://www.goethe-gymnasium.de/wp-content/uploads/2016/10/doors_open-1.jpg
END:VEVENT
END:VCALENDAR