BEGIN:VCALENDAR
VERSION:2.0
PRODID:-//Goethe-Gymnasium Düsseldorf - ECPv4.9.14//NONSGML v1.0//EN
CALSCALE:GREGORIAN
METHOD:PUBLISH
X-WR-CALNAME:Goethe-Gymnasium Düsseldorf
X-ORIGINAL-URL:https://www.goethe-gymnasium.de
X-WR-CALDESC:Veranstaltungen im Goethe-Gymnasium Düsseldorf
BEGIN:VTIMEZONE
TZID:Europe/Berlin
BEGIN:DAYLIGHT
TZOFFSETFROM:+0100
TZOFFSETTO:+0200
TZNAME:CEST
DTSTART:20230326T010000
END:DAYLIGHT
BEGIN:STANDARD
TZOFFSETFROM:+0200
TZOFFSETTO:+0100
TZNAME:CET
DTSTART:20231029T010000
END:STANDARD
END:VTIMEZONE
BEGIN:VEVENT
DTSTART;VALUE=DATE:20230427
DTEND;VALUE=DATE:20230428
DTSTAMP:20260420T113652
CREATED:20220701T143918Z
LAST-MODIFIED:20220806T120748Z
UID:13621-1682553600-1682639999@www.goethe-gymnasium.de
SUMMARY:Girls' and Boys' Day
DESCRIPTION:Mädchen und Jungen für neue Berufswege zu interessieren\, das ist das Ziel des jährlich stattfindenden Girls` und Boys` Day. Jedes Frühjahr wird Mädchen und Jungen die Möglichkeit geboten Berufsfelder kennenzulernen\, die außerhalb einer traditionellen Orientierung liegen. \nSo können sich Mädchen in naturwissenschaftlich-technischen Berufen umsehen und Jungen können einen Einblick in soziale\, erzieherische oder pflegerische Bereiche erhalten. \nZum Prozedere erhalten Ihre Kinder noch ausführliche Informationen. Weiterführende Informationen zum  Girls‚ ans Boys‚ Day können Sie bekommen\, wenn Sie auf den jeweiligen Textlink klicken. \n
URL:https://www.goethe-gymnasium.de/veranstaltung/girls-and-boys-day-2022/
LOCATION:Goethe-Gymnasium\, Lindemannstraße 57\, Düsseldorf\, NRW\, 40237
CATEGORIES:Berufsorientierung
END:VEVENT
END:VCALENDAR