BEGIN:VCALENDAR
VERSION:2.0
PRODID:-//Goethe-Gymnasium Düsseldorf - ECPv4.9.14//NONSGML v1.0//EN
CALSCALE:GREGORIAN
METHOD:PUBLISH
X-WR-CALNAME:Goethe-Gymnasium Düsseldorf
X-ORIGINAL-URL:https://www.goethe-gymnasium.de
X-WR-CALDESC:Veranstaltungen im Goethe-Gymnasium Düsseldorf
BEGIN:VTIMEZONE
TZID:Europe/Berlin
BEGIN:DAYLIGHT
TZOFFSETFROM:+0100
TZOFFSETTO:+0200
TZNAME:CEST
DTSTART:20230326T010000
END:DAYLIGHT
BEGIN:STANDARD
TZOFFSETFROM:+0200
TZOFFSETTO:+0100
TZNAME:CET
DTSTART:20231029T010000
END:STANDARD
END:VTIMEZONE
BEGIN:VEVENT
DTSTART;VALUE=DATE:20230322
DTEND;VALUE=DATE:20230330
DTSTAMP:20260420T113501
CREATED:20220701T143254Z
LAST-MODIFIED:20230316T072034Z
UID:13618-1679443200-1680134399@www.goethe-gymnasium.de
SUMMARY:MASKERADE 2023
DESCRIPTION:Schülertheater-Festival im Goethe.\nNach der Corona-bedingt abgesagten Maskerade von 2021 ist nun das GOETHE zum 17. Mal stolzer Gastgeber des bundesweit ältesten und größten Schülertheater-Festivals\, das aus einer Schule heraus organisiert und durchgeführt wird. \nZum Vergrößern des Plakats auf das Bild klicken! \n  \n  \nKulturpartner und Sponsoren \n           \n
URL:https://www.goethe-gymnasium.de/veranstaltung/maskerade-2023/
LOCATION:Goethe-Gymnasium\, Lindemannstraße 57\, Düsseldorf\, NRW\, 40237
CATEGORIES:Theater
END:VEVENT
BEGIN:VEVENT
DTSTART;TZID=Europe/Berlin:20230328T190000
DTEND;TZID=Europe/Berlin:20230328T200000
DTSTAMP:20260420T113501
CREATED:20230316T070339Z
LAST-MODIFIED:20230316T072205Z
UID:14459-1680030000-1680033600@www.goethe-gymnasium.de
SUMMARY:MASKERADE: Cluedo - Die Schottische Variante
DESCRIPTION:Projektwerkstatt 8\, Wim-Wenders-Gymnasium \nDetaillierte Informationen zum Stück finden Sie im  Programmheft der Maskerade. \n\n\nAktuelles unter www.maskerade.de\nKartenbestellungen ab sofort unter 0211-8923351\n  \n  \n
URL:https://www.goethe-gymnasium.de/veranstaltung/maskerade-cluedo-die-schottische-variante/
LOCATION:Aula (Goethe Gymnasium)\, Lindemannstraße 57\, Düsseldorf\, NRW\, 40237
CATEGORIES:Theater
END:VEVENT
END:VCALENDAR