BEGIN:VCALENDAR
VERSION:2.0
PRODID:-//Goethe-Gymnasium Düsseldorf - ECPv4.9.14//NONSGML v1.0//EN
CALSCALE:GREGORIAN
METHOD:PUBLISH
X-WR-CALNAME:Goethe-Gymnasium Düsseldorf
X-ORIGINAL-URL:https://www.goethe-gymnasium.de
X-WR-CALDESC:Veranstaltungen im Goethe-Gymnasium Düsseldorf
BEGIN:VTIMEZONE
TZID:Europe/Berlin
BEGIN:DAYLIGHT
TZOFFSETFROM:+0100
TZOFFSETTO:+0200
TZNAME:CEST
DTSTART:20230326T010000
END:DAYLIGHT
BEGIN:STANDARD
TZOFFSETFROM:+0200
TZOFFSETTO:+0100
TZNAME:CET
DTSTART:20231029T010000
END:STANDARD
END:VTIMEZONE
BEGIN:VEVENT
DTSTART;VALUE=DATE:20230308
DTEND;VALUE=DATE:20230309
DTSTAMP:20260422T085313
CREATED:20220701T142752Z
LAST-MODIFIED:20220701T143455Z
UID:13614-1678233600-1678319999@www.goethe-gymnasium.de
SUMMARY:Infoabend zur Wahl der 2. Fremdsprache
DESCRIPTION:Französisch oder Latein? Welche Sprache soll mein Kind im nächsten Jahr lernen? \nAn diesem Abend geben wir Ihnen Entscheidungshilfen. Jeweils ein Lehrer/eine Lehrerin für die Fächer Französisch und Latein stellen ihr Fach vor\, berichten aus ihrem Unterricht und gehen gern auf Ihre Fragen ein. \nFür Eltern von Kindern der Jahrgangsstufe 6. \nDetails wie digital/Präsenz werden kurzfristig bekannt gegeben. \n
URL:https://www.goethe-gymnasium.de/veranstaltung/informationsabend-zur-wahl-der-2-fremdsprache-2023/
LOCATION:R. 204 (Goethe-Gymnasium)\, Lindemannstraße 57\, Düsseldorf\, 40237
CATEGORIES:Information
END:VEVENT
BEGIN:VEVENT
DTSTART;VALUE=DATE:20230308
DTEND;VALUE=DATE:20230309
DTSTAMP:20260422T085313
CREATED:20220701T142855Z
LAST-MODIFIED:20220701T143427Z
UID:13613-1678233600-1678319999@www.goethe-gymnasium.de
SUMMARY:Infoabend zu Diffenzierungskursen
DESCRIPTION:… in der Jahrgangsstufe 9 für Eltern von Schülerinnen und Schülern der Jahrgangsstufe 8 \n
URL:https://www.goethe-gymnasium.de/veranstaltung/infoabend-zu-diffenzierungskursen-2023/
LOCATION:R. 204 (Goethe-Gymnasium)\, Lindemannstraße 57\, Düsseldorf\, 40237
CATEGORIES:Information
END:VEVENT
END:VCALENDAR