BEGIN:VCALENDAR
VERSION:2.0
PRODID:-//Goethe-Gymnasium Düsseldorf - ECPv4.9.14//NONSGML v1.0//EN
CALSCALE:GREGORIAN
METHOD:PUBLISH
X-WR-CALNAME:Goethe-Gymnasium Düsseldorf
X-ORIGINAL-URL:https://www.goethe-gymnasium.de
X-WR-CALDESC:Veranstaltungen im Goethe-Gymnasium Düsseldorf
BEGIN:VTIMEZONE
TZID:Europe/Berlin
BEGIN:DAYLIGHT
TZOFFSETFROM:+0100
TZOFFSETTO:+0200
TZNAME:CEST
DTSTART:20230326T010000
END:DAYLIGHT
BEGIN:STANDARD
TZOFFSETFROM:+0200
TZOFFSETTO:+0100
TZNAME:CET
DTSTART:20231029T010000
END:STANDARD
END:VTIMEZONE
BEGIN:VEVENT
DTSTART;VALUE=DATE:20230301
DTEND;VALUE=DATE:20230304
DTSTAMP:20260420T131523
CREATED:20220701T142437Z
LAST-MODIFIED:20220701T142437Z
UID:13611-1677628800-1677887999@www.goethe-gymnasium.de
SUMMARY:Klassenfahrt der 5. Klassen
DESCRIPTION:Genaue Informationen werden Sie rechtzeitig über Ihre Kinder erhalten . Und hier können Sie schon mal nachlesen\, was die Kinder erwartet. \nAbfahrt ist am 01.03.2023 \nRückkehr ist am 03.03.2023  \nBitte versuchen Sie es einzurichten\, dass die Kinder etwa eine Viertelstunde vor der genannten Zeit auf dem Schulhof an der Goethestraße (nicht auf dem Bürgersteig!) sind\, damit eine pünktliche An- und Abreise gewährleistet ist. Aus Sicherheitsgründen parken Sie bitte nicht auf dem Schulhof oder in der Nähe der Einfahrt zum Schulhof! \n
URL:https://www.goethe-gymnasium.de/veranstaltung/klassenfahrt-der-5-klassen-2023/
LOCATION:Sport- und Erlebnisdorf Hinsbeck\, Heide 2C\, 41334 Nettetal\, Deutschland
CATEGORIES:Klassenfahrt
ATTACH;FMTTYPE=image/png:https://www.goethe-gymnasium.de/wp-content/uploads/2016/09/klassenfahrten_navi_hinsbeck.png
END:VEVENT
END:VCALENDAR