BEGIN:VCALENDAR
VERSION:2.0
PRODID:-//Goethe-Gymnasium Düsseldorf - ECPv4.9.14//NONSGML v1.0//EN
CALSCALE:GREGORIAN
METHOD:PUBLISH
X-WR-CALNAME:Goethe-Gymnasium Düsseldorf
X-ORIGINAL-URL:https://www.goethe-gymnasium.de
X-WR-CALDESC:Veranstaltungen im Goethe-Gymnasium Düsseldorf
BEGIN:VTIMEZONE
TZID:Europe/Berlin
BEGIN:DAYLIGHT
TZOFFSETFROM:+0100
TZOFFSETTO:+0200
TZNAME:CEST
DTSTART:20230326T010000
END:DAYLIGHT
BEGIN:STANDARD
TZOFFSETFROM:+0200
TZOFFSETTO:+0100
TZNAME:CET
DTSTART:20231029T010000
END:STANDARD
END:VTIMEZONE
BEGIN:VEVENT
DTSTART;VALUE=DATE:20230123
DTEND;VALUE=DATE:20230131
DTSTAMP:20260420T162507
CREATED:20220701T141855Z
LAST-MODIFIED:20220701T141855Z
UID:13602-1674432000-1675123199@www.goethe-gymnasium.de
SUMMARY:Skifahrt der Jahrgangsstufe EF
DESCRIPTION:Corona-Nachholfahrt von 2021 \n  \nZiel der 8-tägigen Fahrt ist es\, Schülern das Bewegungsfeld des Wintersports näher zu bringen. Dazu gehört\, erste Bewegungserfahrungen auf Skiern oder dem Snowboard zu sammeln oder diese zu vertiefen. Im Mittelpunkt der Skifahrt soll das Freizeit-\, Natur- und Gruppenerlebnis stehen. Neben dem täglichen Skiunterricht werden gemeinsame Aktivitäten\, wie zum Beispiel die halbtägige Schneewanderung\, die Fackelabfahrt und der Discoabend unternommen. \nAbfahrt: \nAnkunft: \nGenauere Informationen erhalten Sie über Ihre Kinder. \n
URL:https://www.goethe-gymnasium.de/veranstaltung/skifahrt-der-jahrgangsstufe-ef/
LOCATION:Jochgrimm\, Hotel Schwarzhorn\, 39040 Jochgrimm / Aldein\, Italien
CATEGORIES:Klassenfahrt
END:VEVENT
END:VCALENDAR