BEGIN:VCALENDAR
VERSION:2.0
PRODID:-//Goethe-Gymnasium Düsseldorf - ECPv4.9.14//NONSGML v1.0//EN
CALSCALE:GREGORIAN
METHOD:PUBLISH
X-WR-CALNAME:Goethe-Gymnasium Düsseldorf
X-ORIGINAL-URL:https://www.goethe-gymnasium.de
X-WR-CALDESC:Veranstaltungen im Goethe-Gymnasium Düsseldorf
BEGIN:VTIMEZONE
TZID:Europe/Berlin
BEGIN:DAYLIGHT
TZOFFSETFROM:+0100
TZOFFSETTO:+0200
TZNAME:CEST
DTSTART:20230326T010000
END:DAYLIGHT
BEGIN:STANDARD
TZOFFSETFROM:+0200
TZOFFSETTO:+0100
TZNAME:CET
DTSTART:20231029T010000
END:STANDARD
END:VTIMEZONE
BEGIN:VEVENT
DTSTART;VALUE=DATE:20230109
DTEND;VALUE=DATE:20230121
DTSTAMP:20260420T162429
CREATED:20221207T145648Z
LAST-MODIFIED:20221207T145816Z
UID:14267-1673222400-1674259199@www.goethe-gymnasium.de
SUMMARY:Betriebspraktikum der EF
DESCRIPTION:In diesen zwei „Wochen der Berufs- und Studienorientierung“ vom 9. – 20. Januar 2022 haben die Schülerinnen und Schüler der EF keinen Unterricht\, sondern absolvieren stattdessen ein Praktikum in einem Betrieb ihrer Wahl. Genauere Infos gibt es hier. \n
URL:https://www.goethe-gymnasium.de/veranstaltung/betriebspraktikum-der-ef/
LOCATION:Goethe-Gymnasium\, Lindemannstraße 57\, Düsseldorf\, NRW\, 40237
CATEGORIES:Berufsorientierung
END:VEVENT
BEGIN:VEVENT
DTSTART;TZID=Europe/Berlin:20230110T190000
DTEND;TZID=Europe/Berlin:20230110T203000
DTSTAMP:20260420T162429
CREATED:20230107T131256Z
LAST-MODIFIED:20230107T131256Z
UID:14336-1673377200-1673382600@www.goethe-gymnasium.de
SUMMARY:Infoabend für Eltern zukünftiger Fünftklässler
DESCRIPTION:Was heißt eigentlich bilingual? \nWas bedeuten die Profile LIT und MEX? \nDiese und viele andere Fragen\, die Grundschuleltern an die zukünftige Schule ihrer Kinder und speziell an das Goethe-Gymnasium haben\, möchten unser Schulleiter Herr Schreiber und einige Lehrerinnen und Lehrer unserer Schule beantworten. \nWir laden interessierte Eltern herzlich ein zur Informationsveranstaltung am Dienstag\, 10. Januar 2023 um 19:00 Uhr in der Aula (ggf Anmeldung nötig) \nEinige Grundschuleltern waren am Tag der offenen Tür verhindert oder vielleicht haben sich inzwischen weitere Fragen und Überlegungen zum Übergang von der Grundschule zum Gymnasium ergeben. An diesem Abend erläutern wir unsere Unterrichts- und Erziehungsarbeit und gehen gern auf Ihre Fragen ein. \nWir informieren Sie über unseren sprachlich-künstlerischen Schwerpunkt und unser pädagogisches Konzept. Wenn Sie am bilingualen Zweig interessiert sind\, benötigen Sie vielleicht noch Entscheidungshilfen. Im Anschluss an die Informationsveranstaltung wird Frau Steffen gern auf spezielle Fragen eingehen. \nAuch in den Anmeldegesprächen beraten wir Sie bei der Entscheidung für ein bestimmtes Profil. \n
URL:https://www.goethe-gymnasium.de/veranstaltung/infoabend-fuer-eltern-zukuenftiger-fuenftklaessler/
LOCATION:Aula (Goethe Gymnasium)\, Lindemannstraße 57\, Düsseldorf\, NRW\, 40237
CATEGORIES:Information
END:VEVENT
END:VCALENDAR