BEGIN:VCALENDAR
VERSION:2.0
PRODID:-//Goethe-Gymnasium Düsseldorf - ECPv4.9.14//NONSGML v1.0//EN
CALSCALE:GREGORIAN
METHOD:PUBLISH
X-WR-CALNAME:Goethe-Gymnasium Düsseldorf
X-ORIGINAL-URL:https://www.goethe-gymnasium.de
X-WR-CALDESC:Veranstaltungen im Goethe-Gymnasium Düsseldorf
BEGIN:VTIMEZONE
TZID:Europe/Berlin
BEGIN:DAYLIGHT
TZOFFSETFROM:+0100
TZOFFSETTO:+0200
TZNAME:CEST
DTSTART:20220327T010000
END:DAYLIGHT
BEGIN:STANDARD
TZOFFSETFROM:+0200
TZOFFSETTO:+0100
TZNAME:CET
DTSTART:20221030T010000
END:STANDARD
END:VTIMEZONE
BEGIN:VEVENT
DTSTART;TZID=Europe/Berlin:20221214T180000
DTEND;TZID=Europe/Berlin:20221214T193000
DTSTAMP:20260424T081757
CREATED:20220808T155455Z
LAST-MODIFIED:20221201T160006Z
UID:13662-1671040800-1671046200@www.goethe-gymnasium.de
SUMMARY:Weihnachtskonzert
DESCRIPTION:Alle Musikensembles am GOETHE\, der Unterstufenchor\, das Orchester und JAM\, spielen Weihnachtliches und Besinnliches zur Adventszeit. \nTickets sind ab Montag\, 7. Dezember wie gewohnt in den großen Pausen vor dem Sekretariat zum Preis von 3€ (Schüler)/5€ oder\, sofern nicht ausverkauft\, an der Abendkasse (ab 17.30 Uhr) zu bekommen. \nEinlass ist um 17.30 Uhr. Die Bar ist ebenfalls ab 17.30 Uhr geöffnet. Freie Platzwahl. \n  \n  \n  \n  \n
URL:https://www.goethe-gymnasium.de/veranstaltung/weihnachtskonzert-2022/
LOCATION:Aula (Goethe Gymnasium)\, Lindemannstraße 57\, Düsseldorf\, 40237
CATEGORIES:Musik
ATTACH;FMTTYPE=image/jpeg:https://www.goethe-gymnasium.de/wp-content/uploads/2018/08/weihnachtskonzert_2018_kalender.jpg
END:VEVENT
END:VCALENDAR