BEGIN:VCALENDAR
VERSION:2.0
PRODID:-//Goethe-Gymnasium Düsseldorf - ECPv4.9.14//NONSGML v1.0//EN
CALSCALE:GREGORIAN
METHOD:PUBLISH
X-WR-CALNAME:Goethe-Gymnasium Düsseldorf
X-ORIGINAL-URL:https://www.goethe-gymnasium.de
X-WR-CALDESC:Veranstaltungen im Goethe-Gymnasium Düsseldorf
BEGIN:VTIMEZONE
TZID:Europe/Berlin
BEGIN:DAYLIGHT
TZOFFSETFROM:+0100
TZOFFSETTO:+0200
TZNAME:CEST
DTSTART:20220327T010000
END:DAYLIGHT
BEGIN:STANDARD
TZOFFSETFROM:+0200
TZOFFSETTO:+0100
TZNAME:CET
DTSTART:20221030T010000
END:STANDARD
END:VTIMEZONE
BEGIN:VEVENT
DTSTART;TZID=Europe/Berlin:20221207T190000
DTEND;TZID=Europe/Berlin:20221207T220000
DTSTAMP:20260420T174733
CREATED:20220921T084955Z
LAST-MODIFIED:20220921T084955Z
UID:13767-1670439600-1670450400@www.goethe-gymnasium.de
SUMMARY:Vorstandssitzung des Fördervereins
DESCRIPTION:Auf den vierteljährlich stattfindenden Vorstandssitzungen des Fördervereins werden die von Seiten der Schule eingegangenen Anträge besprochen. Eltern\, die sich für die Arbeit des Fördervereins interessieren\, sind gerne eingeladen\, als Gast an den Vorstandssitzungen teilzunehmen. \n
URL:https://www.goethe-gymnasium.de/veranstaltung/vorstandssitzung-des-foerdervereins-2022/
LOCATION:Bekanntgabe auf Nachfrage
CATEGORIES:Engagement
ATTACH;FMTTYPE=image/png:https://www.goethe-gymnasium.de/wp-content/uploads/2017/09/foerderverein_logo.png
ORGANIZER;CN="F%C3%B6rderverein%20des%20Goethe-Gymnasiums":MAILTO:foerderverein@goethe-gymnasium.de
END:VEVENT
END:VCALENDAR