BEGIN:VCALENDAR
VERSION:2.0
PRODID:-//Goethe-Gymnasium Düsseldorf - ECPv4.9.14//NONSGML v1.0//EN
CALSCALE:GREGORIAN
METHOD:PUBLISH
X-WR-CALNAME:Goethe-Gymnasium Düsseldorf
X-ORIGINAL-URL:https://www.goethe-gymnasium.de
X-WR-CALDESC:Veranstaltungen im Goethe-Gymnasium Düsseldorf
BEGIN:VTIMEZONE
TZID:Europe/Berlin
BEGIN:DAYLIGHT
TZOFFSETFROM:+0100
TZOFFSETTO:+0200
TZNAME:CEST
DTSTART:20220327T010000
END:DAYLIGHT
BEGIN:STANDARD
TZOFFSETFROM:+0200
TZOFFSETTO:+0100
TZNAME:CET
DTSTART:20221030T010000
END:STANDARD
END:VTIMEZONE
BEGIN:VEVENT
DTSTART;VALUE=DATE:20221128
DTEND;VALUE=DATE:20221129
DTSTAMP:20260424T093443
CREATED:20220701T102209Z
LAST-MODIFIED:20220701T102209Z
UID:13595-1669593600-1669679999@www.goethe-gymnasium.de
SUMMARY:unterrichtsfreier Tag
DESCRIPTION:Da am Tag der Offenen Tür Anwesenheitspflicht für alle Schülerinnen und Schüler ist\, ist stattdessen der darauffolgende Montag (28.11.) unterrichtsfrei. \n
URL:https://www.goethe-gymnasium.de/veranstaltung/unterrichtsfreier-tag/
LOCATION:Goethe-Gymnasium\, Lindemannstraße 57\, Düsseldorf\, NRW\, 40237
END:VEVENT
END:VCALENDAR