BEGIN:VCALENDAR
VERSION:2.0
PRODID:-//Goethe-Gymnasium Düsseldorf - ECPv4.9.14//NONSGML v1.0//EN
CALSCALE:GREGORIAN
METHOD:PUBLISH
X-WR-CALNAME:Goethe-Gymnasium Düsseldorf
X-ORIGINAL-URL:https://www.goethe-gymnasium.de
X-WR-CALDESC:Veranstaltungen im Goethe-Gymnasium Düsseldorf
BEGIN:VTIMEZONE
TZID:Europe/Berlin
BEGIN:DAYLIGHT
TZOFFSETFROM:+0100
TZOFFSETTO:+0200
TZNAME:CEST
DTSTART:20220327T010000
END:DAYLIGHT
BEGIN:STANDARD
TZOFFSETFROM:+0200
TZOFFSETTO:+0100
TZNAME:CET
DTSTART:20221030T010000
END:STANDARD
END:VTIMEZONE
BEGIN:VEVENT
DTSTART;TZID=Europe/Berlin:20221126T100000
DTEND;TZID=Europe/Berlin:20221126T130000
DTSTAMP:20260422T120100
CREATED:20220701T101843Z
LAST-MODIFIED:20221124T201747Z
UID:13593-1669456800-1669467600@www.goethe-gymnasium.de
SUMMARY:Tag der offenen Tür 2022
DESCRIPTION:Die Schulleitung und das Kollegium des Goethe-Gymnasiums laden Kinder der 4. Klassen und deren Eltern herzlich ein\, am Samstag\, den 26. November zwischen 10 und 13 Uhr uns und unsere Schule kennen zu lernen und mit Schülerinnen und Schülern\, Lehrerinnen und Lehrern ins Gespräch zu kommen. \nWir empfehlen Ihnen\, jeweils einen Platz pro BesucherIn in den hier aufgeführten Angeboten bis zum 20.11.2022 zu buchen. Denn die Teilnehmerzahl ist in diesen Angeboten begrenzt. Über die Buchungen auf dieser Seite können Sie sich Ihre Plätze in einer der folgenden Veranstaltungen sichern: \nAb 10.00 Uhr und bis 11.30 Uhr öffnet sich unsere Schule für Sie über die hier von Ihnen zu buchenden drei Angebote (zu den Buchungslinks  weiter unten): \n\nFührungen durch die Schule durch Schüler der Jahrgangsstufe 10\, Die erste Führung beginnt um 10.15 Uhr.\nVorträge durch den Schulleiter\, Ralf Schreiber. Der erste Vortrag beginnt um 10.00 Uhr.\nBesuche von Unterricht der 5. Klassen. Die erste von zwei möglichen Schulstunden beginnt um 10.20 Uhr.\n\nDaneben dürfen Sie auch ohne Anmeldung alle unserer vielfältigen Infostände\, Präsentationen und Vorführungen besuchen. Die zu buchenden Angebote stehen Ihnen dann auch noch offen – sofern es noch freie Plätze gibt. \nEs gelten zur Zeit keine Einschränkungen durch Corona. Bitte beachten Sie die Coronaregeln\, die zum Zeitpunkt des Tages der offenen Tür für öffentliche Veranstaltungen gültig sind. Schauen Sie bitte kurz vorher auf unsere Homepage\, wir würden Sie hier über Einschränkungen informieren. \n\n					Die Frist für Terminbuchungen ist abgelaufen. \nKlicken Sie auf die Zeiten\, um zu sehen\, wo noch freie Termin sind und versuchen Sie Ihr Glück vor Ort! \nAb 11.30 können Sie auch alle frei zugänglichen Präsentationen besuchen.\n  \n  \nFür Infos bitte klicken! \nSie möchten sich auf den Besuch vorbereiten? Mehr über das Goethe erfahren? Dann klicken Sie auf das nebenstehende Bild\, um gebündelte Informationen zu erhalten. \nWir freuen uns schon… auf Sie… und auf euch! \n  \n  \n  \n\n  \n1. Anmeldung zu Führungen\nWollen Sie sich zu einer Führung anmelden\, können Sie hier eine Startzeit und einen Startort buchen. Die Führungen werden im 15-minütigen Takt durchgeführt und dauern ca. 1 Stunde. Notieren Sie sich bitte\, welche Station und welche Startzeit sie gebucht haben. Suchen Sie diese dann bitte rechtzeitig vor Beginn der Führung auf. \n  \n10.15 Uhr – Neubau Foyer\n10.15 Uhr – Aula-Foyer\n10.15 Uhr – Raum S-0.07\n10.30 Uhr – Neubau Foyer\n10.30 Uhr – Aula-Foyer\n10.30 Uhr – Raum S-0.07\n10.45 Uhr – Neubau Foyer\n10.45 Uhr – Aula-Foyer\n10.45 Uhr – Raum S-0.07\n11.00 Uhr – Neubau Foyer\n11.00 Uhr – Aula-Foyer\n11.00 Uhr – Raum S-0.07\n11.15 Uhr – Neubau Foyer\n11.15 Uhr – Aula-Foyer\n11.15 Uhr – Raum S-0.07\n11.30 Uhr – Neubau Foyer\n11.30 Uhr – Aula-Foyer\n11.30 Uhr – Raum S-0.07\n11.45 Uhr – Neubau Foyer\n11.45 Uhr – Aula-Foyer\n11.45 Uhr – Raum S-0.07\n  \n  \n2. Anmeldung zum Vortrag von Ralf Schreiber (Schulleiter) in der Aula\nDer Schulleiter Ralf Schreiber zeigt eine Präsentation und beantwortet Ihre Fragen (Dauer ca. 1 Stunde). Sind Sie angemeldet\, melden Sie sich bitte zuerst bei der Anmeldestation im Foyer der Aula im 1. Stock. \nHier können Sie sich zu einem der beiden Vorträge anmelden: \n1. Vortrag | 10-11 Uhr | Aula\n2. Vortrag | 11.45-12.45 Uhr | Aula\n  \n  \n3. Anmeldung zum Unterricht der 5. Klassen\nSie haben hier die Möglichkeit sich zu einer Unterrichtsstunde der Klasse 5 anzumelden. \nEs werden gleichzeitig sieben Unterrichtsstunden im Erdgeschoss des Altbaus und eine Stunde Sport in der Rethel-Halle angeboten. Alle Räume liegen dicht beieinander. Sind 15 Besucher in einen Unterrichtsraum\, wird die Tür geschlossen. Bei geschlossener Tür wählen Sie einfach einen anderen Unterrichtsraum\, der Ihnen noch Platz bietet. Detaillierte Informationen zu angebotenem Fach und Raum entnehmen Sie dem Plan zum Tag der offenen Tür vor Ort. Hier können Sie sich anmelden: \n1. Unterrichtsstunde | 10.20 Uhr bis 10.55 Uhr\n2. Unterrichtsstunde | 11.10 Uhr bis 11.45 Uhr\n  \nHaben Sie sich für eine Unterrichtsstunde angemeldet\, kommen Sie zu einer der beiden „Anmeldestation für Unterricht“ \n\nFür alle Fächer außer Sport: Flur/Treppenhaus vor Raum S-0.07 (Eingang vom Hof Lindemannstr. hinten links)\nFür alle Fächer außer Sport: Flur/Treppenhaus vor Raum S-0.05 (Eingang vom Hof Lindemannstr. hinten rechts)\nNUR Sport: Wollen Sie eine der beiden Sportstunde in der Rethel-Halle besuchen\, kommen Sie direkt zum Eingang des Neubau-Foyers und lassen sich dort von den Schüler-Lotsen den Eingang zur Sporthalle zeigen. Kommen Sie rechtzeitig ca. 10 Minuten vor Beginn des Unterrichts\n\n  \nSie möchten sich auf den Besuch vorbereiten? Dann klicken Sie auf folgenden Textlink\, um gesammelte Informationen zu erhalten. Wir freuen uns schon… auf Sie… und auf euch! \n  \nRalf Schreiber (Schulleiter)\nMartin Döhr (Erprobungsstufenkorrdinator)\n  \n
URL:https://www.goethe-gymnasium.de/veranstaltung/tag-der-offenen-tuer-2022/
LOCATION:Goethe-Gymnasium\, Lindemannstraße 57\, Düsseldorf\, NRW\, 40237
CATEGORIES:Information
ATTACH;FMTTYPE=image/jpeg:https://www.goethe-gymnasium.de/wp-content/uploads/2016/10/doors_open-1.jpg
END:VEVENT
END:VCALENDAR