BEGIN:VCALENDAR
VERSION:2.0
PRODID:-//Goethe-Gymnasium Düsseldorf - ECPv4.9.14//NONSGML v1.0//EN
CALSCALE:GREGORIAN
METHOD:PUBLISH
X-WR-CALNAME:Goethe-Gymnasium Düsseldorf
X-ORIGINAL-URL:https://www.goethe-gymnasium.de
X-WR-CALDESC:Veranstaltungen im Goethe-Gymnasium Düsseldorf
BEGIN:VTIMEZONE
TZID:Europe/Berlin
BEGIN:DAYLIGHT
TZOFFSETFROM:+0100
TZOFFSETTO:+0200
TZNAME:CEST
DTSTART:20220327T010000
END:DAYLIGHT
BEGIN:STANDARD
TZOFFSETFROM:+0200
TZOFFSETTO:+0100
TZNAME:CET
DTSTART:20221030T010000
END:STANDARD
END:VTIMEZONE
BEGIN:VEVENT
DTSTART;VALUE=DATE:20221031
DTEND;VALUE=DATE:20221103
DTSTAMP:20260422T134607
CREATED:20220917T150357Z
LAST-MODIFIED:20220917T150357Z
UID:13753-1667174400-1667433599@www.goethe-gymnasium.de
SUMMARY:Probenfahrt der Chöre und der Band
DESCRIPTION:
URL:https://www.goethe-gymnasium.de/veranstaltung/probenfahrt-der-choere-und-der-band/
LOCATION:Jugendherberge Gemünd
CATEGORIES:Klassenfahrt,Musik
END:VEVENT
END:VCALENDAR