BEGIN:VCALENDAR
VERSION:2.0
PRODID:-//Goethe-Gymnasium Düsseldorf - ECPv4.9.14//NONSGML v1.0//EN
CALSCALE:GREGORIAN
METHOD:PUBLISH
X-WR-CALNAME:Goethe-Gymnasium Düsseldorf
X-ORIGINAL-URL:https://www.goethe-gymnasium.de
X-WR-CALDESC:Veranstaltungen im Goethe-Gymnasium Düsseldorf
BEGIN:VTIMEZONE
TZID:Europe/Berlin
BEGIN:DAYLIGHT
TZOFFSETFROM:+0100
TZOFFSETTO:+0200
TZNAME:CEST
DTSTART:20220327T010000
END:DAYLIGHT
BEGIN:STANDARD
TZOFFSETFROM:+0200
TZOFFSETTO:+0100
TZNAME:CET
DTSTART:20221030T010000
END:STANDARD
END:VTIMEZONE
BEGIN:VEVENT
DTSTART;VALUE=DATE:20221001
DTEND;VALUE=DATE:20221017
DTSTAMP:20260422T133826
CREATED:20220701T100321Z
LAST-MODIFIED:20220701T100321Z
UID:13552-1664582400-1665964799@www.goethe-gymnasium.de
SUMMARY:Herbstferien
DESCRIPTION:
URL:https://www.goethe-gymnasium.de/veranstaltung/herbstferien-2022/
LOCATION:Goethe-Gymnasium\, Lindemannstraße 57\, Düsseldorf\, NRW\, 40237
CATEGORIES:Ferien
END:VEVENT
END:VCALENDAR