BEGIN:VCALENDAR
VERSION:2.0
PRODID:-//Goethe-Gymnasium Düsseldorf - ECPv4.9.14//NONSGML v1.0//EN
CALSCALE:GREGORIAN
METHOD:PUBLISH
X-WR-CALNAME:Goethe-Gymnasium Düsseldorf
X-ORIGINAL-URL:https://www.goethe-gymnasium.de
X-WR-CALDESC:Veranstaltungen im Goethe-Gymnasium Düsseldorf
BEGIN:VTIMEZONE
TZID:Europe/Berlin
BEGIN:DAYLIGHT
TZOFFSETFROM:+0100
TZOFFSETTO:+0200
TZNAME:CEST
DTSTART:20220327T010000
END:DAYLIGHT
BEGIN:STANDARD
TZOFFSETFROM:+0200
TZOFFSETTO:+0100
TZNAME:CET
DTSTART:20221030T010000
END:STANDARD
END:VTIMEZONE
BEGIN:VEVENT
DTSTART;TZID=Europe/Berlin:20220822T190000
DTEND;TZID=Europe/Berlin:20220822T210000
DTSTAMP:20260423T022020
CREATED:20220701T094840Z
LAST-MODIFIED:20220701T094840Z
UID:13543-1661194800-1661202000@www.goethe-gymnasium.de
SUMMARY:Elternabend Klassen 5
DESCRIPTION:Der Elternabend informiert über alles Wichtige an der neuen Schule. \nUm 19 Uhr informiert die Schulleitung in der Aula. Anschließend (ca ab 19.30 Uhr)wird der Elternabend im Klassenverband in einzelnen Räumen fortgesetzt. \n
URL:https://www.goethe-gymnasium.de/veranstaltung/elternabend-klassen-5-2022/
LOCATION:Aula (Goethe Gymnasium)\, Lindemannstraße 57\, Düsseldorf\, 40237
CATEGORIES:Information
END:VEVENT
END:VCALENDAR